BEGIN:VCALENDAR
VERSION:2.0
PRODID:-//ChamberMaster//Event Calendar 2.0//EN
METHOD:PUBLISH
X-PUBLISHED-TTL:P3D
REFRESH-INTERVAL:P3D
CALSCALE:GREGORIAN
BEGIN:VEVENT
DTSTART:20260423T220000Z
DTEND:20260424T010000Z
X-MICROSOFT-CDO-ALLDAYEVENT:FALSE
SUMMARY:2026 MEMBER CRAWFISH BOIL
DESCRIPTION:St. John the Catholic Church\, gym  from 5-8:00 PM\n\n\n	cold drinks\, water & beer provided\n	crawfish\,  shrimp\, & pastalaya\n	live music- David St. Romain\n	each active member gets 1 complimentary tickets\n	additional tickets can be purchased for $25 each- contact chloe@zacharychamber.com\n	please reserve your spot on link- MUST have RSVP to attend
X-ALT-DESC;FMTTYPE=text/html:<p class="cvGsUA direction-ltr align-center para-style-body" style="color: rgb(50\, 49\, 42)\; font-family: &quot\;YACgEUFdPdA 0&quot\;\, _fb_\, auto\; --font-size: 39.5831px\; --line-height: 1.24\; letter-spacing: 0.019em\; line-height: 49px\;"><span style="font-family:verdana\;"><strong><span class="OYPEnA text-decoration-none text-strikethrough-none" style="color: rgb(223\, 63\, 0)\; font-weight: 700\;">St. John the Catholic Church\, gym&nbsp\; from 5-8:00 PM</span></strong></span></p>\n\n<ul>\n	<li><span style="font-family:verdana\;"><span class="OYPEnA text-decoration-none text-strikethrough-none" style="color: rgb(50\, 49\, 42)\;">cold drinks\, water &amp\; beer provided</span></span></li>\n	<li><span style="font-family:verdana\;"><span class="OYPEnA text-decoration-none text-strikethrough-none" style="color: rgb(50\, 49\, 42)\;">crawfish\,&nbsp\;&nbsp\;shrimp\, &amp\; pastalaya</span></span></li>\n	<li><span style="font-family:verdana\;"><span class="OYPEnA text-decoration-none text-strikethrough-none" style="color: rgb(50\, 49\, 42)\;">live music- David St. Romain</span></span></li>\n	<li><span style="font-family:verdana\;"><span class="OYPEnA text-decoration-none text-strikethrough-none" style="color: rgb(50\, 49\, 42)\;">each active member gets 1&nbsp\;complimentary tickets</span></span></li>\n	<li><span style="font-family:verdana\;"><span class="OYPEnA text-decoration-none text-strikethrough-none" style="color: rgb(50\, 49\, 42)\;">additional tickets can be purchased for $25 each- contact chloe@zacharychamber.com</span></span></li>\n	<li><span style="font-family:verdana\;"><span class="OYPEnA text-decoration-none text-strikethrough-none" style="color: rgb(50\, 49\, 42)\;">please reserve your spot on link- MUST have RSVP to attend</span></span></li>\n</ul>\n
LOCATION:St. John the Catholic Church\, gym from 5-8:00 PM
UID:e.859.3260
SEQUENCE:3
DTSTAMP:20260420T120408Z
URL:http://members.zacharychamber.com/events/details/2026-member-crawfish-boil-3260
END:VEVENT

END:VCALENDAR
